BEGIN:VCALENDAR
VERSION:2.0
PRODID:-//Μουσείο Νεοελληνικής Τέχνης Δήμου Ρόδου - ECPv6.15.18//NONSGML v1.0//EN
CALSCALE:GREGORIAN
METHOD:PUBLISH
X-ORIGINAL-URL:https://mgamuseum.gr/el
X-WR-CALDESC:Events for Μουσείο Νεοελληνικής Τέχνης Δήμου Ρόδου
REFRESH-INTERVAL;VALUE=DURATION:PT1H
X-Robots-Tag:noindex
X-PUBLISHED-TTL:PT1H
BEGIN:VTIMEZONE
TZID:Europe/Athens
BEGIN:DAYLIGHT
TZOFFSETFROM:+0200
TZOFFSETTO:+0300
TZNAME:EEST
DTSTART:20210328T010000
END:DAYLIGHT
BEGIN:STANDARD
TZOFFSETFROM:+0300
TZOFFSETTO:+0200
TZNAME:EET
DTSTART:20211031T010000
END:STANDARD
BEGIN:DAYLIGHT
TZOFFSETFROM:+0200
TZOFFSETTO:+0300
TZNAME:EEST
DTSTART:20220327T010000
END:DAYLIGHT
BEGIN:STANDARD
TZOFFSETFROM:+0300
TZOFFSETTO:+0200
TZNAME:EET
DTSTART:20221030T010000
END:STANDARD
BEGIN:DAYLIGHT
TZOFFSETFROM:+0200
TZOFFSETTO:+0300
TZNAME:EEST
DTSTART:20230326T010000
END:DAYLIGHT
BEGIN:STANDARD
TZOFFSETFROM:+0300
TZOFFSETTO:+0200
TZNAME:EET
DTSTART:20231029T010000
END:STANDARD
END:VTIMEZONE
BEGIN:VEVENT
DTSTART;TZID=Europe/Athens:20221219T203000
DTEND;TZID=Europe/Athens:20221219T223000
DTSTAMP:20260423T174258
CREATED:20221215T114927Z
LAST-MODIFIED:20221216T115338Z
UID:17309-1671481800-1671489000@mgamuseum.gr
SUMMARY:“Τα Χριστούγεννα του Τεμπέλη”
DESCRIPTION:Το Φωνητικό Σύνολο του Δικηγορικού Συλλόγου Ρόδου παρουσιάζει “Τα Χριστούγεννα του Τεμπέλη” του Αλέξανδρου Παπαδιαμάντη. \nΔευτέρα 19 Δεκεμβρίου 2022 στις 8:30 μ.μ. στη Νέα Πτέρυγα Νεστοριδείου Μελάθρου.
URL:https://mgamuseum.gr/el/drastiriotites/ta-christoygenna-toy-tempeli/
LOCATION:Νέα Πτέρυγα Νεστοριδείου Μελάθρου\, Ι. & Π. Νεστορίδη\, Ρόδος\, Δωδεκάνησα\, 85100\, Ελλάδα
CATEGORIES:Συναυλίες,Χριστούγεννα
ATTACH;FMTTYPE=image/jpeg:https://mgamuseum.gr/el/wp-content/uploads/2022/12/mgamuseumgr_dikigorikossyllogos.jpg
END:VEVENT
END:VCALENDAR