BEGIN:VCALENDAR
VERSION:2.0
PRODID:-//Μουσείο Νεοελληνικής Τέχνης Δήμου Ρόδου - ECPv6.15.18//NONSGML v1.0//EN
CALSCALE:GREGORIAN
METHOD:PUBLISH
X-ORIGINAL-URL:https://mgamuseum.gr/el
X-WR-CALDESC:Events for Μουσείο Νεοελληνικής Τέχνης Δήμου Ρόδου
REFRESH-INTERVAL;VALUE=DURATION:PT1H
X-Robots-Tag:noindex
X-PUBLISHED-TTL:PT1H
BEGIN:VTIMEZONE
TZID:Europe/Athens
BEGIN:DAYLIGHT
TZOFFSETFROM:+0200
TZOFFSETTO:+0300
TZNAME:EEST
DTSTART:20210328T010000
END:DAYLIGHT
BEGIN:STANDARD
TZOFFSETFROM:+0300
TZOFFSETTO:+0200
TZNAME:EET
DTSTART:20211031T010000
END:STANDARD
BEGIN:DAYLIGHT
TZOFFSETFROM:+0200
TZOFFSETTO:+0300
TZNAME:EEST
DTSTART:20220327T010000
END:DAYLIGHT
BEGIN:STANDARD
TZOFFSETFROM:+0300
TZOFFSETTO:+0200
TZNAME:EET
DTSTART:20221030T010000
END:STANDARD
BEGIN:DAYLIGHT
TZOFFSETFROM:+0200
TZOFFSETTO:+0300
TZNAME:EEST
DTSTART:20230326T010000
END:DAYLIGHT
BEGIN:STANDARD
TZOFFSETFROM:+0300
TZOFFSETTO:+0200
TZNAME:EET
DTSTART:20231029T010000
END:STANDARD
END:VTIMEZONE
BEGIN:VEVENT
DTSTART;TZID=Europe/Athens:20221217T160000
DTEND;TZID=Europe/Athens:20221217T180000
DTSTAMP:20260423T175823
CREATED:20221201T133617Z
LAST-MODIFIED:20221208T133914Z
UID:17284-1671292800-1671300000@mgamuseum.gr
SUMMARY:Χριστούγεννα στο Μουσείο
DESCRIPTION:Σάββατο 17 Δεκεμβρίου\n16:00- 18:00 για παιδιά Γυμνασίου και Λυκείου\nΜε την Τζένη Αργυρίου χορογράφο και transmedia artist.\nΤα τελευταία χρόνια η δουλειά της βασίζεται στο διάλογο μεταξύ παραστατικών τεχνών και τη χρήση νέων μέσων τεχνολογίας.\nΈχει δημιουργήσει και συν επιμεληθεί έργα\, που έχουν παρουσιαστεί (ενδεικτικά) στη Στέγη του ιδρύματος Ωνάση\, στην Εθνική Λυρική Σκηνή\, στο φεστιβάλ Rencontres chorégraphiques internationales de Seine-Saint-Denis\, στο Διεθνές Φεστιβάλ Καλαμάτας\, στο Φεστιβάλ Αθηνών και Επιδαύρου κ.α.\nΟρμώμενοι από ένα πίνακα και με βοηθό το σώμα μας κινούμαστε αυτοσχεδιάζουμε και εκφραζόμαστε πάνω στην Ωδή της Χαράς του Μπετόβεν.\nΔηλώστε την συμμετοχή σας εγκαίρως για τις θεατρικές ομάδες\nστην κα Καλλιόπη Χατζηπαπά – Τηλέφωνο 2241130496.
URL:https://mgamuseum.gr/el/drastiriotites/christoygenna-sto-moyseio/
LOCATION:Νέα Πτέρυγα Νεστοριδείου Μελάθρου\, Ι. & Π. Νεστορίδη\, Ρόδος\, Δωδεκάνησα\, 85100\, Ελλάδα
CATEGORIES:Εκπαιδευτικά Προγράμματα,Χριστούγεννα
ATTACH;FMTTYPE=image/jpeg:https://mgamuseum.gr/el/wp-content/uploads/2022/12/mgamuseumgr_-xristougennastomouseio.png.jpg
ORGANIZER;CN="%CE%9C%CE%BF%CF%85%CF%83%CE%B5%CE%AF%CE%BF %CE%9D%CE%B5%CE%BF%CE%B5%CE%BB%CE%BB%CE%B7%CE%BD%CE%B9%CE%BA%CE%AE%CF%82 %CE%A4%CE%AD%CF%87%CE%BD%CE%B7%CF%82 %CE%94%CE%AE%CE%BC%CE%BF%CF%85 %CE%A1%CF%8C%CE%B4%CE%BF%CF%85":MAILTO:contact@mgamuseum.gr
END:VEVENT
BEGIN:VEVENT
DTSTART;TZID=Europe/Athens:20221217T183000
DTEND;TZID=Europe/Athens:20221217T203000
DTSTAMP:20260423T175823
CREATED:20221201T133924Z
LAST-MODIFIED:20221208T135719Z
UID:17286-1671301800-1671309000@mgamuseum.gr
SUMMARY:Χριστούγεννα στο Μουσείο
DESCRIPTION:Σάββατο 17 Δεκεμβρίου\n18:30-20:30 για ενήλικες\nΜε την Τζένη Αργυρίου χορογράφο και transmedia artist.\nΤα τελευταία χρόνια η δουλειά της βασίζεται στο διάλογο μεταξύ παραστατικών τεχνών και τη χρήση νέων μέσων τεχνολογίας.\nΈχει δημιουργήσει και συν επιμεληθεί έργα\, που έχουν παρουσιαστεί (ενδεικτικά) στη Στέγη του ιδρύματος Ωνάση\, στην Εθνική Λυρική Σκηνή\, στο φεστιβάλ Rencontres chorégraphiques internationales de Seine-Saint-Denis\, στο Διεθνές Φεστιβάλ Καλαμάτας\, στο Φεστιβάλ Αθηνών και Επιδαύρου κ.α.\nΟρμώμενοι από ένα πίνακα και με βοηθό το σώμα μας κινούμαστε αυτοσχεδιάζουμε και εκφραζόμαστε πάνω στην Ωδή της Χαράς του Μπετόβεν.\nΔηλώστε την συμμετοχή σας εγκαίρως για τις θεατρικές ομάδες\nστην κα Καλλιόπη Χατζηπαπά – Τηλέφωνο 2241130496.
URL:https://mgamuseum.gr/el/drastiriotites/christoygenna-sto-moyseio-2/
LOCATION:Νέα Πτέρυγα Νεστοριδείου Μελάθρου\, Ι. & Π. Νεστορίδη\, Ρόδος\, Δωδεκάνησα\, 85100\, Ελλάδα
CATEGORIES:Εκπαιδευτικά Προγράμματα,Χριστούγεννα
ATTACH;FMTTYPE=image/jpeg:https://mgamuseum.gr/el/wp-content/uploads/2022/12/mgamuseumgr_-xristougennastomouseio.png.jpg
ORGANIZER;CN="%CE%9C%CE%BF%CF%85%CF%83%CE%B5%CE%AF%CE%BF %CE%9D%CE%B5%CE%BF%CE%B5%CE%BB%CE%BB%CE%B7%CE%BD%CE%B9%CE%BA%CE%AE%CF%82 %CE%A4%CE%AD%CF%87%CE%BD%CE%B7%CF%82 %CE%94%CE%AE%CE%BC%CE%BF%CF%85 %CE%A1%CF%8C%CE%B4%CE%BF%CF%85":MAILTO:contact@mgamuseum.gr
END:VEVENT
END:VCALENDAR