BEGIN:VCALENDAR
VERSION:2.0
PRODID:-//Μουσείο Νεοελληνικής Τέχνης Δήμου Ρόδου - ECPv6.15.18//NONSGML v1.0//EN
CALSCALE:GREGORIAN
METHOD:PUBLISH
X-WR-CALNAME:Μουσείο Νεοελληνικής Τέχνης Δήμου Ρόδου
X-ORIGINAL-URL:https://mgamuseum.gr/el
X-WR-CALDESC:Events for Μουσείο Νεοελληνικής Τέχνης Δήμου Ρόδου
REFRESH-INTERVAL;VALUE=DURATION:PT1H
X-Robots-Tag:noindex
X-PUBLISHED-TTL:PT1H
BEGIN:VTIMEZONE
TZID:Europe/Athens
BEGIN:DAYLIGHT
TZOFFSETFROM:+0200
TZOFFSETTO:+0300
TZNAME:EEST
DTSTART:20210328T010000
END:DAYLIGHT
BEGIN:STANDARD
TZOFFSETFROM:+0300
TZOFFSETTO:+0200
TZNAME:EET
DTSTART:20211031T010000
END:STANDARD
BEGIN:DAYLIGHT
TZOFFSETFROM:+0200
TZOFFSETTO:+0300
TZNAME:EEST
DTSTART:20220327T010000
END:DAYLIGHT
BEGIN:STANDARD
TZOFFSETFROM:+0300
TZOFFSETTO:+0200
TZNAME:EET
DTSTART:20221030T010000
END:STANDARD
BEGIN:DAYLIGHT
TZOFFSETFROM:+0200
TZOFFSETTO:+0300
TZNAME:EEST
DTSTART:20230326T010000
END:DAYLIGHT
BEGIN:STANDARD
TZOFFSETFROM:+0300
TZOFFSETTO:+0200
TZNAME:EET
DTSTART:20231029T010000
END:STANDARD
END:VTIMEZONE
BEGIN:VEVENT
DTSTART;TZID=Europe/Athens:20221204T100000
DTEND;TZID=Europe/Athens:20221204T120000
DTSTAMP:20260421T155238
CREATED:20221201T122401Z
LAST-MODIFIED:20221208T122632Z
UID:17266-1670148000-1670155200@mgamuseum.gr
SUMMARY:Χριστούγεννα στο Μουσείο: Στη σκιά των Χριστουγέννων
DESCRIPTION:Κυριακή 4 Δεκεμβρίου 2022\n10:00-12:00\nΔιάρκεια : 120’ για παιδιά Νηπιαγωγείου μέχρι και ΣΤ’ Δημοτικού\nΑριθμός συμμετεχόντων σε κάθε ομάδα: 20 παιδιά.\n\n\nΤα παιδιά μεταμορφώνονται σε ξωτικά και οι σκιές των ξωτικών γίνονται πολύχρωμες. Ένα εικαστικό βιωματικό παιχνίδι εξελίσσεται μέσα στο χώρο του μουσείου.\n\n\nΜε αφήγηση\, κίνηση \, χρώματα και σκιές.\n-Τι χρειάζεται να έχετε μαζί ; Τη σκιά σας.\nΔηλώστε την συμμετοχή σας εγκαίρως για το καλλιτεχνικό εργαστήρι στην κα Εύη Λαού – Τηλέφωνο 22410 91670.
URL:https://mgamuseum.gr/el/drastiriotites/christoygenna-sto-moyseio-sti-skia-ton-christoygennon-4/
LOCATION:Νέα Πτέρυγα Νεστοριδείου Μελάθρου\, Ι. & Π. Νεστορίδη\, Ρόδος\, Δωδεκάνησα\, 85100\, Ελλάδα
CATEGORIES:Εκπαιδευτικά Προγράμματα,Χριστούγεννα
ATTACH;FMTTYPE=image/jpeg:https://mgamuseum.gr/el/wp-content/uploads/2022/12/mgamuseumgr_-xristougennastomouseio.png.jpg
ORGANIZER;CN="%CE%9C%CE%BF%CF%85%CF%83%CE%B5%CE%AF%CE%BF %CE%9D%CE%B5%CE%BF%CE%B5%CE%BB%CE%BB%CE%B7%CE%BD%CE%B9%CE%BA%CE%AE%CF%82 %CE%A4%CE%AD%CF%87%CE%BD%CE%B7%CF%82 %CE%94%CE%AE%CE%BC%CE%BF%CF%85 %CE%A1%CF%8C%CE%B4%CE%BF%CF%85":MAILTO:contact@mgamuseum.gr
END:VEVENT
BEGIN:VEVENT
DTSTART;TZID=Europe/Athens:20221204T123000
DTEND;TZID=Europe/Athens:20221204T143000
DTSTAMP:20260421T155238
CREATED:20221201T122646Z
LAST-MODIFIED:20221208T123236Z
UID:17268-1670157000-1670164200@mgamuseum.gr
SUMMARY:Χριστούγεννα στο Μουσείο: Στη σκιά των Χριστουγέννων
DESCRIPTION:Κυριακή 4 Δεκεμβρίου 2022\n12:30-14:30\nΔιάρκεια : 120’ για παιδιά Νηπιαγωγείου μέχρι και ΣΤ’ Δημοτικού\nΑριθμός συμμετεχόντων σε κάθε ομάδα: 20 παιδιά.\n\n\nΤα παιδιά μεταμορφώνονται σε ξωτικά και οι σκιές των ξωτικών γίνονται πολύχρωμες. Ένα εικαστικό βιωματικό παιχνίδι εξελίσσεται μέσα στο χώρο του μουσείου.\n\n\nΜε αφήγηση\, κίνηση \, χρώματα και σκιές.\n-Τι χρειάζεται να έχετε μαζί ; Τη σκιά σας.\nΔηλώστε την συμμετοχή σας εγκαίρως για το καλλιτεχνικό εργαστήρι στην κα Εύη Λαού – Τηλέφωνο 22410 91670.
URL:https://mgamuseum.gr/el/drastiriotites/christoygenna-sto-moyseio-sti-skia-ton-christoygennon-5/
LOCATION:Νέα Πτέρυγα Νεστοριδείου Μελάθρου\, Ι. & Π. Νεστορίδη\, Ρόδος\, Δωδεκάνησα\, 85100\, Ελλάδα
CATEGORIES:Εκπαιδευτικά Προγράμματα,Χριστούγεννα
ATTACH;FMTTYPE=image/jpeg:https://mgamuseum.gr/el/wp-content/uploads/2022/12/mgamuseumgr_-xristougennastomouseio.png.jpg
ORGANIZER;CN="%CE%9C%CE%BF%CF%85%CF%83%CE%B5%CE%AF%CE%BF %CE%9D%CE%B5%CE%BF%CE%B5%CE%BB%CE%BB%CE%B7%CE%BD%CE%B9%CE%BA%CE%AE%CF%82 %CE%A4%CE%AD%CF%87%CE%BD%CE%B7%CF%82 %CE%94%CE%AE%CE%BC%CE%BF%CF%85 %CE%A1%CF%8C%CE%B4%CE%BF%CF%85":MAILTO:contact@mgamuseum.gr
END:VEVENT
BEGIN:VEVENT
DTSTART;TZID=Europe/Athens:20221204T180000
DTEND;TZID=Europe/Athens:20221204T200000
DTSTAMP:20260421T155238
CREATED:20221201T123245Z
LAST-MODIFIED:20221208T123421Z
UID:17270-1670176800-1670184000@mgamuseum.gr
SUMMARY:Χριστούγεννα στο Μουσείο: Στη σκιά των Χριστουγέννων
DESCRIPTION:Κυριακή 4 Δεκεμβρίου 2022\n18:00-20:00\nΔιάρκεια : 120’ για παιδιά Νηπιαγωγείου μέχρι και ΣΤ’ Δημοτικού\nΑριθμός συμμετεχόντων σε κάθε ομάδα: 20 παιδιά.\n\n\nΤα παιδιά μεταμορφώνονται σε ξωτικά και οι σκιές των ξωτικών γίνονται πολύχρωμες. Ένα εικαστικό βιωματικό παιχνίδι εξελίσσεται μέσα στο χώρο του μουσείου.\n\n\nΜε αφήγηση\, κίνηση \, χρώματα και σκιές.\n-Τι χρειάζεται να έχετε μαζί ; Τη σκιά σας.\nΔηλώστε την συμμετοχή σας εγκαίρως για το καλλιτεχνικό εργαστήρι στην κα Εύη Λαού – Τηλέφωνο 22410 91670.
URL:https://mgamuseum.gr/el/drastiriotites/christoygenna-sto-moyseio-sti-skia-ton-christoygennon-6/
LOCATION:Νέα Πτέρυγα Νεστοριδείου Μελάθρου\, Ι. & Π. Νεστορίδη\, Ρόδος\, Δωδεκάνησα\, 85100\, Ελλάδα
CATEGORIES:Εκπαιδευτικά Προγράμματα,Χριστούγεννα
ATTACH;FMTTYPE=image/jpeg:https://mgamuseum.gr/el/wp-content/uploads/2022/12/mgamuseumgr_-xristougennastomouseio.png.jpg
ORGANIZER;CN="%CE%9C%CE%BF%CF%85%CF%83%CE%B5%CE%AF%CE%BF %CE%9D%CE%B5%CE%BF%CE%B5%CE%BB%CE%BB%CE%B7%CE%BD%CE%B9%CE%BA%CE%AE%CF%82 %CE%A4%CE%AD%CF%87%CE%BD%CE%B7%CF%82 %CE%94%CE%AE%CE%BC%CE%BF%CF%85 %CE%A1%CF%8C%CE%B4%CE%BF%CF%85":MAILTO:contact@mgamuseum.gr
END:VEVENT
END:VCALENDAR