BEGIN:VCALENDAR
VERSION:2.0
PRODID:-//Μουσείο Νεοελληνικής Τέχνης Δήμου Ρόδου - ECPv6.15.18//NONSGML v1.0//EN
CALSCALE:GREGORIAN
METHOD:PUBLISH
X-WR-CALNAME:Μουσείο Νεοελληνικής Τέχνης Δήμου Ρόδου
X-ORIGINAL-URL:https://mgamuseum.gr/el
X-WR-CALDESC:Events for Μουσείο Νεοελληνικής Τέχνης Δήμου Ρόδου
REFRESH-INTERVAL;VALUE=DURATION:PT1H
X-Robots-Tag:noindex
X-PUBLISHED-TTL:PT1H
BEGIN:VTIMEZONE
TZID:Europe/Athens
BEGIN:DAYLIGHT
TZOFFSETFROM:+0200
TZOFFSETTO:+0300
TZNAME:EEST
DTSTART:20210328T010000
END:DAYLIGHT
BEGIN:STANDARD
TZOFFSETFROM:+0300
TZOFFSETTO:+0200
TZNAME:EET
DTSTART:20211031T010000
END:STANDARD
BEGIN:DAYLIGHT
TZOFFSETFROM:+0200
TZOFFSETTO:+0300
TZNAME:EEST
DTSTART:20220327T010000
END:DAYLIGHT
BEGIN:STANDARD
TZOFFSETFROM:+0300
TZOFFSETTO:+0200
TZNAME:EET
DTSTART:20221030T010000
END:STANDARD
BEGIN:DAYLIGHT
TZOFFSETFROM:+0200
TZOFFSETTO:+0300
TZNAME:EEST
DTSTART:20230326T010000
END:DAYLIGHT
BEGIN:STANDARD
TZOFFSETFROM:+0300
TZOFFSETTO:+0200
TZNAME:EET
DTSTART:20231029T010000
END:STANDARD
END:VTIMEZONE
BEGIN:VEVENT
DTSTART;TZID=Europe/Athens:20221128T200000
DTEND;TZID=Europe/Athens:20221128T223000
DTSTAMP:20260421T155406
CREATED:20221122T114612Z
LAST-MODIFIED:20221208T115205Z
UID:17251-1669665600-1669674600@mgamuseum.gr
SUMMARY:Tέταρτη μουσική συνάντηση του Νοεμβρίου\, με τη συναυλία «Crossovers Duet»
DESCRIPTION:Η Ρόδος\, για πρώτη φορά\, μέσα από το Μουσείο Νεοελληνικής Τέχνης του Δήμου Ρόδου\, συμμετέχει στους διεθνείς εορτασμούς της Ημέρας της Μεσογείου\, με την τέταρτη μουσική συνάντηση του Νοεμβρίου\, με τη συναυλία «Crossovers Duet»: Από την παράδοση στη σύγχρονη φόρμα\, με την Αγγελική Τουμπανάκη και τον Θάνο Σταυρίδη.\nΗ Ημέρα της Μεσογείου εορτάζεται κάθε χρόνο στις 28 Νοεμβρίου και είναι μία ετήσια ευκαιρία για την προώθηση των διαπολιτισμικών ανταλλαγών\, την ενθάρρυνση της συνεργασίας\, την αποδοχής της διαφορετικότητας και την ενδυνάμωση των δεσμών μεταξύ των δύο όχθων της Μεσογείου. Γιορτάζουμε την κοινή μας κληρονομιά και την αγάπη μας για τη Μεσόγειο.\nΕίναι μία υπενθύμιση ότι οι ομοιότητες ξεπερνούν τις διαφορές και ότι όλοι μοιραζόμαστε μία Μεσογειακή ταυτότητα.\nΗ Ημέρα της Μεσογείου είναι πρωτοβουλία της Ένωσης για τη Μεσόγειο\, και στηρίζεται μεταξύ άλλων από την Ευρωπαϊκή Ένωση και το Υπουργείο Εξωτερικών της Ελληνικής Δημοκρατίας.\nΗ εκδήλωση στη Ρόδο πραγματοποιείται\, και εντάσσεται στα πλαίσια του γενικού συντονισμού του Ιδρύματος Anna Lindh για τον εορτασμό της Ημέρας της Μεσογείου από την Κοινωνία των Πολιτών.\n«Crossovers Duet»: Από την παράδοση στη σύγχρονη φόρμα\nΗ World Jazz βοκαλίστρια και performer Αγγελική Τουμπανάκη συλλέγει ήχους\,\nερευνά\, ονειρεύεται. Έχοντας δεκαεφτά χρόνια μουσικής εμπειρίας και έρευνας στον κόσμο της σύγχρονης φωνητικής\, της World\, της ηλεκτρονικής και της τζαζ μουσικής\, η Αγγελική δημιουργεί μουσικές συλλογικότητες και προτείνει εξαιρετικές παραστάσεις. Η ανάγκη της\, η χαρά της και ο στόχος της είναι η ελεύθερη δημιουργική έκφραση και η διάδραση των ανθρώπων πέρα από μουσικά σύνορα και νόρμες.\nΣτο πολυσυλλεκτικό project «Crossovers»: από την παράδοση στη σύγχρονη φόρμα». η Αγγελική προσκαλεί τον σπουδαίο δεξιοτέχνη ακορντεονίστα και χρόνια συνεργάτη\nτης\, Θάνο Σταυρίδη και μαζί μας προσκαλούν να ενωθούμε και να αφεθούμε στα τραγούδια των παραδόσεων και της καρδιάς μας.\nΣκοποί των Βαλκανίων\, μελωδίες της Μεσογείου και της Ανατολίας\, αναμειγνύονται με σύγχρονη αρμονία\, crossover αυτοσχεδιασμούς και βοκαλισμούς. Οι δύο μουσικοί\nδιασταυρώνουν ήχους\, συναισθήματα\, βιώματα και αφηγούνται με μοναδικό\nερμηνευτικό τρόπο τις ιστορίες. Την ίδια στιγμή καταθέτουν απλόχερα το πάθος τους για τον αυτοσχεδιασμό και μας κάνουν μέρος στο αυθόρμητο μουσικό τους σύμπαν.\nΤο «Crossovers» είναι μια ανοικτή μουσική «αγκαλιά»\, μια γιορτή συναισθημάτων\, ένα ταξίδι στον χρόνο\, στους τόπους και τον δυνατό παλμό των μουσικών παραδόσεων του κόσμου.\nΗ εκδήλωση θα πραγματοποιηθεί στη Νέα Πτέρυγα του Νεστοριδείου Μελάθρου του Μουσείου Νεοελληνικής Τέχνης του Δήμου Ρόδου\, τη Δευτέρα\, 28 Νοεμβρίου 2022\, στις 20:00.\nΕίσοδος ελεύθερη.\nΔιοργάνωση: Μουσείο Νεοελληνικής Τέχνης του Δήμου Ρόδου\nΣε συνεργασία με το Ελληνικό Δίκτυο του Ιδρύματος Anna Lindh\, το Σπίτι της Ευρώπης στη Ρόδο και τη Φωτόεσα.
URL:https://mgamuseum.gr/el/drastiriotites/tetarti-moysiki-synantisi-toy-noemvrioy-me-ti-synaylia-crossovers-duet/
LOCATION:Νέα Πτέρυγα Νεστοριδείου Μελάθρου\, Ι. & Π. Νεστορίδη\, Ρόδος\, Δωδεκάνησα\, 85100\, Ελλάδα
CATEGORIES:Συναυλίες
ATTACH;FMTTYPE=image/jpeg:https://mgamuseum.gr/el/wp-content/uploads/2022/12/mgamuseumgr_giorti-tis-mesogeiou.jpg
ORGANIZER;CN="%CE%A4%CE%BF %CE%A3%CF%80%CE%AF%CF%84%CE%B9 %CF%84%CE%B7%CF%82 %CE%95%CF%85%CF%81%CF%8E%CF%80%CE%B7%CF%82 %CF%83%CF%84%CE%B7 %CE%A1%CF%8C%CE%B4%CE%BF":MAILTO:eesdforum@houseofeurope-rhodes.eu
END:VEVENT
END:VCALENDAR