BEGIN:VCALENDAR
VERSION:2.0
PRODID:-//Μουσείο Νεοελληνικής Τέχνης Δήμου Ρόδου - ECPv6.15.18//NONSGML v1.0//EN
CALSCALE:GREGORIAN
METHOD:PUBLISH
X-ORIGINAL-URL:https://mgamuseum.gr/el
X-WR-CALDESC:Events for Μουσείο Νεοελληνικής Τέχνης Δήμου Ρόδου
REFRESH-INTERVAL;VALUE=DURATION:PT1H
X-Robots-Tag:noindex
X-PUBLISHED-TTL:PT1H
BEGIN:VTIMEZONE
TZID:Europe/Athens
BEGIN:DAYLIGHT
TZOFFSETFROM:+0200
TZOFFSETTO:+0300
TZNAME:EEST
DTSTART:20210328T010000
END:DAYLIGHT
BEGIN:STANDARD
TZOFFSETFROM:+0300
TZOFFSETTO:+0200
TZNAME:EET
DTSTART:20211031T010000
END:STANDARD
BEGIN:DAYLIGHT
TZOFFSETFROM:+0200
TZOFFSETTO:+0300
TZNAME:EEST
DTSTART:20220327T010000
END:DAYLIGHT
BEGIN:STANDARD
TZOFFSETFROM:+0300
TZOFFSETTO:+0200
TZNAME:EET
DTSTART:20221030T010000
END:STANDARD
BEGIN:DAYLIGHT
TZOFFSETFROM:+0200
TZOFFSETTO:+0300
TZNAME:EEST
DTSTART:20230326T010000
END:DAYLIGHT
BEGIN:STANDARD
TZOFFSETFROM:+0300
TZOFFSETTO:+0200
TZNAME:EET
DTSTART:20231029T010000
END:STANDARD
END:VTIMEZONE
BEGIN:VEVENT
DTSTART;TZID=Europe/Athens:20220903T210000
DTEND;TZID=Europe/Athens:20220903T223000
DTSTAMP:20260421T200941
CREATED:20220830T115036Z
LAST-MODIFIED:20220909T115354Z
UID:17078-1662238800-1662244200@mgamuseum.gr
SUMMARY:Αφιέρωμα στον Βαγγέλη Παπαθανασίου
DESCRIPTION:Σάββατο\, 3 Σεπτεμβρίου\nΈναρξη προβολής: 21:00\nΕίσοδος ελεύθερη\nΟι δρόμοι της φωτιάς (Chariots Of Fire)\nΗνωμένο Βασίλειο\, 1981\, έγχρ\, 125’\nΣκηνοθεσία: Χιου Χάντσον | Σενάριο: Κόλιν Γουέλαντ | Ηθοποιοί: Μπεν Κρος\, Ίαν Τσάρλσον\, Νάιτζελ Χέιβερς\, Τζον Γκίλγκουντ\n\n\nΔύο Βρετανοί δρομείς\, ο ένας Εβραίος και ο άλλος Καθολικός συμμετέχουν στους Ολυμπιακούς Αγώνες του 1924 στο Παρίσι. Ο ένας τρέχει για να αφήσει πίσω του τις προκαταλήψεις\, ο άλλος για να υποστηρίξει την πίστη του. Βασισμένη στην αληθινή ιστορία δύο αθλητών\, η ταινία έμελλε να γίνει κλασική\, να κερδίσει υποψηφιότητες και βραβεία και να\nδιασκευαστεί για το θέατρο. Ο Βαγγέλης Παπαθανασίου που συνέθεσε τη θρυλική μουσική και το μουσικό θέμα της ταινίας τιμήθηκε με Όσκαρ Μουσικής και υποψηφιότητα για BAFTA.\nΆλλα τρία Όσκαρ (Ταινίας\, Σεναρίου και Κοστουμιών) και τρία BAFTA (Ταινίας\, Β’ Ανδρικού Ρόλου και Κοστουμιών).
URL:https://mgamuseum.gr/el/drastiriotites/afieroma-ston-vaggeli-papathanasioy-2/
LOCATION:Αμφιθέατρο Νεστοριδείου Μελάθρου
ATTACH;FMTTYPE=image/jpeg:https://mgamuseum.gr/el/wp-content/uploads/2022/09/mgamuseumgr_vangeris.jpg
END:VEVENT
END:VCALENDAR